BEGIN:VCALENDAR
VERSION:2.0
PRODID:-//Plone.org//NONSGML plone.app.event//EN
X-WR-TIMEZONE:America/Sao_Paulo
BEGIN:VEVENT
SUMMARY:Festa Junina CEU em [ Outros espacos]
DTSTART;TZID=America/Sao_Paulo;VALUE=DATE-TIME:20230623T170000
DTEND;TZID=America/Sao_Paulo;VALUE=DATE-TIME:20230623T210000
DTSTAMP;VALUE=DATE-TIME:20260421T121748Z
UID:4ff792105bf74145a31ca0ea4d02ea23@150.164.76.86:8080
CREATED;VALUE=DATE-TIME:20230515T132204Z
DESCRIPTION:<p><span>Festa junina com participação de alunos\, servidore
 s (TAES e Professores) e colaboradores</span></p>
LAST-MODIFIED;VALUE=DATE-TIME:20230515T132512Z
URL:http://150.164.76.86:8080/cac/agenda/890899000318854332
END:VEVENT
BEGIN:VTIMEZONE
TZID:America/Sao_Paulo
X-LIC-LOCATION:America/Sao_Paulo
BEGIN:STANDARD
DTSTART;VALUE=DATE-TIME:20230225T230000
TZNAME:BRT
TZOFFSETFROM:-0200
TZOFFSETTO:-0300
END:STANDARD
END:VTIMEZONE
END:VCALENDAR
