BEGIN:VCALENDAR
VERSION:2.0
PRODID:-//Plone.org//NONSGML plone.app.event//EN
X-WR-TIMEZONE:America/Sao_Paulo
BEGIN:VEVENT
SUMMARY:Dedetização do Prédio em [ Auditorio Nobre do CAD 1 Auditorio 2
 A do CAD 1 Auditorio 1A do CAD 1]
DTSTART;TZID=America/Sao_Paulo;VALUE=DATE-TIME:20230401T070000
DTEND;TZID=America/Sao_Paulo;VALUE=DATE-TIME:20230401T180000
DTSTAMP;VALUE=DATE-TIME:20260421T132929Z
UID:a4b07d889d224632a774c3ff54af6981@150.164.76.86:8080
CREATED;VALUE=DATE-TIME:20230324T135117Z
DESCRIPTION:<p>dedetização do CAD1 </p>
LAST-MODIFIED;VALUE=DATE-TIME:20230324T135200Z
URL:http://150.164.76.86:8080/cac/agenda/8904809713571158170
END:VEVENT
BEGIN:VTIMEZONE
TZID:America/Sao_Paulo
X-LIC-LOCATION:America/Sao_Paulo
BEGIN:STANDARD
DTSTART;VALUE=DATE-TIME:20230225T230000
TZNAME:BRT
TZOFFSETFROM:-0200
TZOFFSETTO:-0300
END:STANDARD
END:VTIMEZONE
END:VCALENDAR
