BEGIN:VCALENDAR
VERSION:2.0
PRODID:-//Plone.org//NONSGML plone.app.event//EN
X-WR-TIMEZONE:America/Sao_Paulo
BEGIN:VEVENT
SUMMARY:I Congresso Brasileiro de Oncologia Translacional em [ Auditorio N
 obre do CAD 1]
DTSTART;TZID=America/Sao_Paulo;VALUE=DATE-TIME:20241120T080000
DTEND;TZID=America/Sao_Paulo;VALUE=DATE-TIME:20241122T210000
DTSTAMP;VALUE=DATE-TIME:20260419T175433Z
UID:c442cf8b6ec4400c8dbb9486a71bc5b3@150.164.76.86:8080
CREATED;VALUE=DATE-TIME:20240108T122729Z
DESCRIPTION:<p>- dias do evento: 20-22/11 - Horário de início e término
  em cada dia: O horário previsto para as atividades é de 8:00 as 18:00\,
  mas devemos chegar uma hora antes para organizar. - Haverá algum tipo de
  montagem de estrutura específica para o evento? Se sim\, para quando est
 á agendada? Não está prevista nenhuma montagem de estrutura especifica\
 , apenas colocaremos banners fora do auditório e um atrás da mesa dos pa
 lestrantes. - Vocês farão credenciamento dos participantes? Se sim\, ir
 ão utilizar o balcão de entrada do CAD1 para isso? Sim\, faremos credenc
 iamento e gostaríamos de utilizar o balcão de entrada do CAD1 - quantas 
 pessoas irão compor a mesa principal no palco do auditório? Teremos uma 
 mesa redonda com participação de 6 pessoas - Vocês terão tradução si
 multânea no evento? Qual empresa irá prestar esse serviço? Não teremos
  tradução simultânea - Precisam que seja gerado um wifi exclusivo para 
 uso nos dias do evento? Sim - Vocês terão algum tipo de apresentação c
 ultural no auditório durante o congresso? Não haverá apresentação cul
 tural no auditorio - Haverá coffee break? Se sim\, quais horários estão
  previstos para o coffee break? Sim\, haverá 6 coffee break ( 10:30 -11:0
 0 e 15:30 as 16:00) - Mesmo que seja com atendimento de terceiros\, o senh
 or tem previsão de realizar algum tipo de transmissão ou gravação do e
 vento? Não haverá transmissão ou gravação do evento. - Haverá algum 
 tipo de lançamento de livros? Se sim\, qual estrutura irão utilizar para
  isso? Não haverá lançamento de livro.</p>
LAST-MODIFIED;VALUE=DATE-TIME:20240919T200141Z
URL:http://150.164.76.86:8080/cac/agenda/8877258479630139079
END:VEVENT
BEGIN:VTIMEZONE
TZID:America/Sao_Paulo
X-LIC-LOCATION:America/Sao_Paulo
BEGIN:DAYLIGHT
DTSTART;VALUE=DATE-TIME:20241020T010000
TZNAME:BRST
TZOFFSETFROM:-0300
TZOFFSETTO:-0200
END:DAYLIGHT
END:VTIMEZONE
END:VCALENDAR
