BEGIN:VCALENDAR
VERSION:2.0
PRODID:-//Plone.org//NONSGML plone.app.event//EN
X-WR-TIMEZONE:America/Sao_Paulo
BEGIN:VEVENT
SUMMARY:CAPACIDADE EXCEDIDA em [ Auditório B302 do CAD 3 Auditório B101/
 102 do CAD 3 Auditório B301 do CAD 3]
DTSTART;TZID=America/Sao_Paulo;VALUE=DATE-TIME:20200724T000000
DTEND;TZID=America/Sao_Paulo;VALUE=DATE-TIME:20200725T230000
DTSTAMP;VALUE=DATE-TIME:20260424T212638Z
UID:4c453c6a5b4746059508074e22ab9a92@150.164.76.86:8080
CREATED;VALUE=DATE-TIME:20200114T211154Z
DESCRIPTION:<p>A pedido da coordenadora da CAC Cássia Monteiro\, aprovado
  em reuniões dos dias 09 e 10/01/2020.<br />Atenciosamente<br />Coordenad
 oria de Assuntos Comunitários</p>
LAST-MODIFIED;VALUE=DATE-TIME:20230111T201136Z
URL:http://150.164.76.86:8080/cac/agenda/8873459358638025426
END:VEVENT
BEGIN:VTIMEZONE
TZID:America/Sao_Paulo
X-LIC-LOCATION:America/Sao_Paulo
BEGIN:STANDARD
DTSTART;VALUE=DATE-TIME:20200215T230000
TZNAME:BRT
TZOFFSETFROM:-0200
TZOFFSETTO:-0300
END:STANDARD
END:VTIMEZONE
END:VCALENDAR
