BEGIN:VCALENDAR
VERSION:2.0
PRODID:-//Plone.org//NONSGML plone.app.event//EN
X-WR-TIMEZONE:America/Sao_Paulo
BEGIN:VEVENT
SUMMARY:Reunião sobre propostas para o edital FINEP - PROINFRA 2023 em [ 
 Auditorio da Reitoria]
DTSTART;TZID=America/Sao_Paulo;VALUE=DATE-TIME:20240223T090000
DTEND;TZID=America/Sao_Paulo;VALUE=DATE-TIME:20240223T120000
DTSTAMP;VALUE=DATE-TIME:20260420T080657Z
UID:182bb0c6a6e942c8bb735d77e2d4dfae@150.164.76.86:8080
CREATED;VALUE=DATE-TIME:20240220T131348Z
DESCRIPTION:<p>Reunião para apresentação de propostas relativa ao edita
 l FINEP - PROINFRA 2023. Necessário que a reunião seja realizada de form
 a híbrida\, de modo que participantes do ICA - Montes Claros possam parti
 cipar. Será necessário o uso de projetor e microfone. Há possibilidade 
 de quatro pessoas sentarem-se a mesa. Não é necessário formalidades.</p
 >
LAST-MODIFIED;VALUE=DATE-TIME:20240221T151735Z
URL:http://150.164.76.86:8080/cac/agenda/8870135108212543601
END:VEVENT
BEGIN:VTIMEZONE
TZID:America/Sao_Paulo
X-LIC-LOCATION:America/Sao_Paulo
BEGIN:STANDARD
DTSTART;VALUE=DATE-TIME:20240217T230000
TZNAME:BRT
TZOFFSETFROM:-0200
TZOFFSETTO:-0300
END:STANDARD
END:VTIMEZONE
END:VCALENDAR
