BEGIN:VCALENDAR
VERSION:2.0
PRODID:-//Plone.org//NONSGML plone.app.event//EN
X-WR-TIMEZONE:America/Sao_Paulo
BEGIN:VEVENT
SUMMARY:AULA INAUGURAL FORMAÇÃO TRANSVERSAL EM DIREITOS HUMANOS E DIVULG
 AÇÃO CIENTÍFICA em [ Auditorio da Reitoria]
DTSTART;TZID=America/Sao_Paulo;VALUE=DATE-TIME:20220503T170000
DTEND;TZID=America/Sao_Paulo;VALUE=DATE-TIME:20220503T210000
DTSTAMP;VALUE=DATE-TIME:20260422T063537Z
UID:14d68bb3dd654c5995350ce97f80f691@150.164.76.86:8080
CREATED;VALUE=DATE-TIME:20220425T192213Z
DESCRIPTION:<p>A Aula Inaugural será uma atividade em parceria com a Form
 ação Transversal em Direitos Humanos e a Formação Transversal em Divul
 gação Científica. A aula terá como tema o debate "10 anos da lei 12.71
 1/2012" com a presença da Pró-Reitora de Extensão Claudia Mayorga\, Pro
 fa. Maria Aparecida Moura (diretora da UDH/PROEX) como mediadora da mesa e
  com as palestrantes: Yone Gonzaga (FaE)\; Karina (FaE) e terceira integra
 nte a confirmar o nome. A aula faz parte da abertura das atividades das du
 as formações transversais que são coordenadas por docentes em parceria 
 com as diretorias de direitos humanos e de divulgação científica da PRO
 EX.</p>
LAST-MODIFIED;VALUE=DATE-TIME:20220425T204421Z
URL:http://150.164.76.86:8080/cac/agenda/8844644207417319655
END:VEVENT
BEGIN:VTIMEZONE
TZID:America/Sao_Paulo
X-LIC-LOCATION:America/Sao_Paulo
BEGIN:STANDARD
DTSTART;VALUE=DATE-TIME:20220219T230000
TZNAME:BRT
TZOFFSETFROM:-0200
TZOFFSETTO:-0300
END:STANDARD
END:VTIMEZONE
END:VCALENDAR
