BEGIN:VCALENDAR
VERSION:2.0
PRODID:-//Plone.org//NONSGML plone.app.event//EN
X-WR-TIMEZONE:America/Sao_Paulo
BEGIN:VEVENT
SUMMARY:II Seminário do Curso de Formação Continuada de Secretários de
  Educação e Equipes Técnicas das Secretarias de Educação no Âmbito d
 o Programa Escola em Tempo Integral em [ Auditorio Nobre do CAD 1]
DTSTART;TZID=America/Sao_Paulo;VALUE=DATE-TIME:20240823T080000
DTEND;TZID=America/Sao_Paulo;VALUE=DATE-TIME:20240823T170000
DTSTAMP;VALUE=DATE-TIME:20260419T222857Z
UID:d2965f9188cb4497a04b50d891edfa92@150.164.76.86:8080
CREATED;VALUE=DATE-TIME:20240625T184644Z
DESCRIPTION:<p>Segundo seminário presencial do curso Curso de Formação 
 Continuada de secretários(as) de educação e equipes técnicas das Secre
 tarias de Educação no âmbito do Programa Escola em Tempo Integral (ETI)
  a ser realizado com os cursistas .</p>
LAST-MODIFIED;VALUE=DATE-TIME:20240716T125332Z
URL:http://150.164.76.86:8080/cac/agenda/8840763917898420477
END:VEVENT
BEGIN:VTIMEZONE
TZID:America/Sao_Paulo
X-LIC-LOCATION:America/Sao_Paulo
BEGIN:STANDARD
DTSTART;VALUE=DATE-TIME:20240217T230000
TZNAME:BRT
TZOFFSETFROM:-0200
TZOFFSETTO:-0300
END:STANDARD
END:VTIMEZONE
END:VCALENDAR
