BEGIN:VCALENDAR
VERSION:2.0
PRODID:-//Plone.org//NONSGML plone.app.event//EN
X-WR-TIMEZONE:America/Sao_Paulo
BEGIN:VEVENT
SUMMARY:Pré-reserva Semana do Servidor em [ Auditorio da Reitoria]
DTSTART;TZID=America/Sao_Paulo;VALUE=DATE-TIME:20231106T080000
DTEND;TZID=America/Sao_Paulo;VALUE=DATE-TIME:20231110T220000
DTSTAMP;VALUE=DATE-TIME:20260420T132049Z
UID:60a46ee26a1747a3ab1f0a16d939e3da@150.164.76.86:8080
CREATED;VALUE=DATE-TIME:20230425T155313Z
DESCRIPTION:<p>a confirmar local e data</p>
LAST-MODIFIED;VALUE=DATE-TIME:20230427T124947Z
URL:http://150.164.76.86:8080/cac/agenda/8840699859030426181
END:VEVENT
BEGIN:VTIMEZONE
TZID:America/Sao_Paulo
X-LIC-LOCATION:America/Sao_Paulo
BEGIN:DAYLIGHT
DTSTART;VALUE=DATE-TIME:20231015T010000
TZNAME:BRST
TZOFFSETFROM:-0300
TZOFFSETTO:-0200
END:DAYLIGHT
END:VTIMEZONE
END:VCALENDAR
