BEGIN:VCALENDAR
VERSION:2.0
PRODID:-//Plone.org//NONSGML plone.app.event//EN
X-WR-TIMEZONE:America/Sao_Paulo
BEGIN:VEVENT
SUMMARY:Reconcentre em [ Outros espacos Auditorio Nobre do CAD 1]
DTSTART;TZID=America/Sao_Paulo;VALUE=DATE-TIME:20241207T080000
DTEND;TZID=America/Sao_Paulo;VALUE=DATE-TIME:20241208T203000
DTSTAMP;VALUE=DATE-TIME:20260419T163714Z
UID:f5e285860a72415aa7d573a42733d0b4@150.164.76.86:8080
CREATED;VALUE=DATE-TIME:20241015T202452Z
DESCRIPTION:<p>O Reconcentre é o um encontro regional das 49 empresas jun
 iores\, um momento de networking com outros empresários juniores de refer
 ência. É organizado pela Central de Empresas Juniores da Grande Belo Hor
 izonte\, com o objetivo de proporcionar a conexão com grandes empresas pa
 rceiras do evento. Apresentar a a EJ como referência apresentando sua pr
 ópria pauta. Conhecer outras EJs em stands e apresentar a empresa no seu 
 próprio stand. Informações da edição anterior: https://doity.com.br/r
 econcentre2024</p>
LAST-MODIFIED;VALUE=DATE-TIME:20241203T191125Z
URL:http://150.164.76.86:8080/cac/agenda/8829870346949921020
END:VEVENT
BEGIN:VTIMEZONE
TZID:America/Sao_Paulo
X-LIC-LOCATION:America/Sao_Paulo
BEGIN:DAYLIGHT
DTSTART;VALUE=DATE-TIME:20241020T010000
TZNAME:BRST
TZOFFSETFROM:-0300
TZOFFSETTO:-0200
END:DAYLIGHT
END:VTIMEZONE
END:VCALENDAR
