BEGIN:VCALENDAR
VERSION:2.0
PRODID:-//Plone.org//NONSGML plone.app.event//EN
X-WR-TIMEZONE:America/Sao_Paulo
BEGIN:VEVENT
SUMMARY:Evento com Governo de Minas Gerais em [ Auditorio da Reitoria]
DTSTART;TZID=America/Sao_Paulo;VALUE=DATE-TIME:20250214T070000
DTEND;TZID=America/Sao_Paulo;VALUE=DATE-TIME:20250214T210000
DTSTAMP;VALUE=DATE-TIME:20260419T133916Z
UID:98d6f5f74864496e8071bbfc891a6b46@150.164.76.86:8080
CREATED;VALUE=DATE-TIME:20250203T175653Z
DESCRIPTION:<p>Evento com Governo de MG</p>
LAST-MODIFIED;VALUE=DATE-TIME:20250210T124905Z
URL:http://150.164.76.86:8080/cac/agenda/8829160876133592265
END:VEVENT
BEGIN:VTIMEZONE
TZID:America/Sao_Paulo
X-LIC-LOCATION:America/Sao_Paulo
BEGIN:DAYLIGHT
DTSTART;VALUE=DATE-TIME:20241020T010000
TZNAME:BRST
TZOFFSETFROM:-0300
TZOFFSETTO:-0200
END:DAYLIGHT
END:VTIMEZONE
END:VCALENDAR
