BEGIN:VCALENDAR
VERSION:2.0
PRODID:-//Plone.org//NONSGML plone.app.event//EN
X-WR-TIMEZONE:America/Sao_Paulo
BEGIN:VEVENT
SUMMARY:Montagem Blitz Saúde em [ Arena da praça de serviços Entorno da
  Praca de Servicos]
DTSTART;TZID=America/Sao_Paulo;VALUE=DATE-TIME:20241122T070000
DTEND;TZID=America/Sao_Paulo;VALUE=DATE-TIME:20241122T190000
DTSTAMP;VALUE=DATE-TIME:20260419T175434Z
UID:064f6aedce5046f8a08c7cf1844243fb@150.164.76.86:8080
CREATED;VALUE=DATE-TIME:20240729T193411Z
DESCRIPTION:<p>montagem</p>
LAST-MODIFIED;VALUE=DATE-TIME:20240820T163348Z
URL:http://150.164.76.86:8080/cac/agenda/880725980590062408
END:VEVENT
BEGIN:VTIMEZONE
TZID:America/Sao_Paulo
X-LIC-LOCATION:America/Sao_Paulo
BEGIN:DAYLIGHT
DTSTART;VALUE=DATE-TIME:20241020T010000
TZNAME:BRST
TZOFFSETFROM:-0300
TZOFFSETTO:-0200
END:DAYLIGHT
END:VTIMEZONE
END:VCALENDAR
