BEGIN:VCALENDAR
VERSION:2.0
PRODID:-//Plone.org//NONSGML plone.app.event//EN
X-WR-TIMEZONE:America/Sao_Paulo
BEGIN:VEVENT
SUMMARY:CAPACIDADE EXCEDIDA em [ Saguao da Reitoria Auditorio da Reitoria 
 Gramado da Reitoria Auditorio 1A do CAD 1 Auditorio 2A do CAD 1 Auditorio 
 A102 do Cad 2 Auditorio A104 do Cad 2 Auditório B301 do CAD 3]
DTSTART;TZID=America/Sao_Paulo;VALUE=DATE-TIME:20200506T000000
DTEND;TZID=America/Sao_Paulo;VALUE=DATE-TIME:20200506T120000
DTSTAMP;VALUE=DATE-TIME:20260424T233747Z
UID:d93cafab07a84612b9ec6de71d663969@150.164.76.86:8080
CREATED;VALUE=DATE-TIME:20200219T121429Z
DESCRIPTION:<p>.</p>
LAST-MODIFIED;VALUE=DATE-TIME:20200219T121511Z
URL:http://150.164.76.86:8080/cac/agenda/8767214797880136782
END:VEVENT
BEGIN:VTIMEZONE
TZID:America/Sao_Paulo
X-LIC-LOCATION:America/Sao_Paulo
BEGIN:STANDARD
DTSTART;VALUE=DATE-TIME:20200215T230000
TZNAME:BRT
TZOFFSETFROM:-0200
TZOFFSETTO:-0300
END:STANDARD
END:VTIMEZONE
END:VCALENDAR
