BEGIN:VCALENDAR
VERSION:2.0
PRODID:-//Plone.org//NONSGML plone.app.event//EN
X-WR-TIMEZONE:America/Sao_Paulo
BEGIN:VEVENT
SUMMARY:BANCA DE HETEROIDENTIFICAÇÃO em [ Auditório B106 do CAD3 Audit
 ório B107 do CAD3]
DTSTART;TZID=America/Sao_Paulo;VALUE=DATE-TIME:20250206T070000
DTEND;TZID=America/Sao_Paulo;VALUE=DATE-TIME:20250206T180000
DTSTAMP;VALUE=DATE-TIME:20260419T135241Z
UID:76bd74926dd54916b294133a1c918383@150.164.76.86:8080
CREATED;VALUE=DATE-TIME:20241122T122043Z
DESCRIPTION:<p><span>Realização de Bancas de Heteroidentificação para 
 os Processos Seletivos da EBAP</span></p>
LAST-MODIFIED;VALUE=DATE-TIME:20241122T185309Z
URL:http://150.164.76.86:8080/cac/agenda/8757792566441206666
END:VEVENT
BEGIN:VTIMEZONE
TZID:America/Sao_Paulo
X-LIC-LOCATION:America/Sao_Paulo
BEGIN:DAYLIGHT
DTSTART;VALUE=DATE-TIME:20241020T010000
TZNAME:BRST
TZOFFSETFROM:-0300
TZOFFSETTO:-0200
END:DAYLIGHT
END:VTIMEZONE
END:VCALENDAR
