BEGIN:VCALENDAR
VERSION:2.0
PRODID:-//Plone.org//NONSGML plone.app.event//EN
X-WR-TIMEZONE:America/Sao_Paulo
BEGIN:VEVENT
SUMMARY:Reunião Coordenadores Programas de Pós-Graduação em [ Auditór
 io B107 do CAD3]
DTSTART;TZID=America/Sao_Paulo;VALUE=DATE-TIME:20240405T140000
DTEND;TZID=America/Sao_Paulo;VALUE=DATE-TIME:20240405T180000
DTSTAMP;VALUE=DATE-TIME:20260420T044449Z
UID:7175982ce2944511a1fde34f25b8c116@150.164.76.86:8080
CREATED;VALUE=DATE-TIME:20240308T180431Z
DESCRIPTION:Trata-se da reunião da PRPG com os coordenadores dos programa
 s de pós-graduação.\n\nMaterial necessário:\n\nMesa para quatro pessoa
 s com microfone.\nMicrofone volante\nNotebook\nProjetor para apresentaçã
 o
LAST-MODIFIED;VALUE=DATE-TIME:20240308T190003Z
URL:http://150.164.76.86:8080/cac/agenda/8751090433421260639
END:VEVENT
BEGIN:VTIMEZONE
TZID:America/Sao_Paulo
X-LIC-LOCATION:America/Sao_Paulo
BEGIN:STANDARD
DTSTART;VALUE=DATE-TIME:20240217T230000
TZNAME:BRT
TZOFFSETFROM:-0200
TZOFFSETTO:-0300
END:STANDARD
END:VTIMEZONE
END:VCALENDAR
