BEGIN:VCALENDAR
VERSION:2.0
PRODID:-//Plone.org//NONSGML plone.app.event//EN
X-WR-TIMEZONE:America/Sao_Paulo
BEGIN:VEVENT
SUMMARY:Colação de Grau dos Formandos em Letras em [ Auditorio Nobre do 
 CAD 1]
DTSTART;TZID=America/Sao_Paulo;VALUE=DATE-TIME:20230302T170000
DTEND;TZID=America/Sao_Paulo;VALUE=DATE-TIME:20230302T210000
DTSTAMP;VALUE=DATE-TIME:20260421T145826Z
UID:979ce7c8bfc74697990224e64e602e7a@150.164.76.86:8080
CREATED;VALUE=DATE-TIME:20221118T153036Z
DESCRIPTION:<p>Colação de Grau dos Formandos em Letras. Será necessári
 o a utilização dos equipamentos disponíveis no auditório. Os itens nec
 essários para realização do evento serão levados pela Equipe do Cerimo
 nial da FALE.</p>
LAST-MODIFIED;VALUE=DATE-TIME:20221222T194126Z
URL:http://150.164.76.86:8080/cac/agenda/8745189466069595506
END:VEVENT
BEGIN:VTIMEZONE
TZID:America/Sao_Paulo
X-LIC-LOCATION:America/Sao_Paulo
BEGIN:STANDARD
DTSTART;VALUE=DATE-TIME:20230225T230000
TZNAME:BRT
TZOFFSETFROM:-0200
TZOFFSETTO:-0300
END:STANDARD
END:VTIMEZONE
END:VCALENDAR
