BEGIN:VCALENDAR
VERSION:2.0
PRODID:-//Plone.org//NONSGML plone.app.event//EN
X-WR-TIMEZONE:America/Sao_Paulo
BEGIN:VEVENT
SUMMARY:Aula de Dança - Passinhos de BH em [ Arena da praça de serviços
 ]
DTSTART;TZID=America/Sao_Paulo;VALUE=DATE-TIME:20240625T170000
DTEND;TZID=America/Sao_Paulo;VALUE=DATE-TIME:20240625T183000
DTSTAMP;VALUE=DATE-TIME:20260420T012427Z
UID:2bd24507e570486d9710d8f7a33359a0@150.164.76.86:8080
CREATED;VALUE=DATE-TIME:20240619T221349Z
DESCRIPTION:<p>EQUIPAMENTOS: Caixa de som Extensão Mesa de plástico SERV
 IÇOS NECESSÁRIOS: Reserva e iluminação do picadeiro da praça de servi
 ços. PROGRAMAÇÃO Execução pelos estudantes e dançarinos de nome art
 ístico OGomes e Saell . 17h recepção dos alunos 17:20 abertura da aula 
 e base de movimentos 17:40 execução dos exercícios 18:20 Finalização 
 da aula</p>
LAST-MODIFIED;VALUE=DATE-TIME:20240621T135712Z
URL:http://150.164.76.86:8080/cac/agenda/87382443028407584
END:VEVENT
BEGIN:VTIMEZONE
TZID:America/Sao_Paulo
X-LIC-LOCATION:America/Sao_Paulo
BEGIN:STANDARD
DTSTART;VALUE=DATE-TIME:20240217T230000
TZNAME:BRT
TZOFFSETFROM:-0200
TZOFFSETTO:-0300
END:STANDARD
END:VTIMEZONE
END:VCALENDAR
