BEGIN:VCALENDAR
VERSION:2.0
PRODID:-//Plone.org//NONSGML plone.app.event//EN
X-WR-TIMEZONE:America/Sao_Paulo
BEGIN:VEVENT
SUMMARY:Feira da UFMG em [ Arena da praça de serviços]
DTSTART;TZID=America/Sao_Paulo;VALUE=DATE-TIME:20240821T090000
DTEND;TZID=America/Sao_Paulo;VALUE=DATE-TIME:20240821T140000
DTSTAMP;VALUE=DATE-TIME:20260419T234706Z
UID:9c90b8170ddf437eaa46b651aa5f1c07@150.164.76.86:8080
CREATED;VALUE=DATE-TIME:20240819T125352Z
DESCRIPTION:Faremos o lançamento de um livro de receitas. Para isso preci
 saremos de um sistema de som\, para as falas da autora. \nO lançamento ac
 ontecerá de 10:00 às 14:00 horas.
LAST-MODIFIED;VALUE=DATE-TIME:20240819T153656Z
URL:http://150.164.76.86:8080/cac/agenda/8714254459197050237
END:VEVENT
BEGIN:VTIMEZONE
TZID:America/Sao_Paulo
X-LIC-LOCATION:America/Sao_Paulo
BEGIN:STANDARD
DTSTART;VALUE=DATE-TIME:20240217T230000
TZNAME:BRT
TZOFFSETFROM:-0200
TZOFFSETTO:-0300
END:STANDARD
END:VTIMEZONE
END:VCALENDAR
