BEGIN:VCALENDAR
VERSION:2.0
PRODID:-//Plone.org//NONSGML plone.app.event//EN
X-WR-TIMEZONE:America/Sao_Paulo
BEGIN:VEVENT
SUMMARY:Série de Seminários CTVacinas em [ Outros espacos]
DTSTART;TZID=America/Sao_Paulo;VALUE=DATE-TIME:20240306T160000
DTEND;TZID=America/Sao_Paulo;VALUE=DATE-TIME:20240306T173000
DTSTAMP;VALUE=DATE-TIME:20260420T044632Z
UID:f300d06894c5465e9a5383a1147bd66d@150.164.76.86:8080
CREATED;VALUE=DATE-TIME:20240304T141250Z
DESCRIPTION:A Série de Seminários CTVacinas foi criada em 2023 e promove
 \, toda quarta-feira\, uma palestra gratuita para a comunidade da UFMG de 
 uma referência nacional e mundial em ciência e tecnologia. Já passaram 
 convidados dos Estados Unidos\, da Europa\, América Latina\, entre outros
 .\n\nNo ano passado\, a CAC faz a transmissão ao vivo de três palestras.
  Solicitamos o mesmo serviço (transmissão ao vivo pelo YouTube) para a p
 alestra inaugural deste ano.\n\nÉ uma transmissão simples\, com apenas u
 ma câmera fixa e\, no máximo (se possível)\, passagem de slides. O audi
 tório do BH-TEC tem mesa de som\, o palestrante fala pelo microfone\, e t
 em acesso à internet.\n\nA palestra tem duração de 50 minutos e mais ce
 rca de 20 minutos para perguntas: começa às 16h - portanto\, entendemos 
 que dura no máximo até 17h30.\n\nQuaisquer dúvidas\, estou à disposiç
 ão pelo telefone 31 99687-4299
LAST-MODIFIED;VALUE=DATE-TIME:20240304T172424Z
URL:http://150.164.76.86:8080/cac/agenda/8699014690296271413
END:VEVENT
BEGIN:VTIMEZONE
TZID:America/Sao_Paulo
X-LIC-LOCATION:America/Sao_Paulo
BEGIN:STANDARD
DTSTART;VALUE=DATE-TIME:20240217T230000
TZNAME:BRT
TZOFFSETFROM:-0200
TZOFFSETTO:-0300
END:STANDARD
END:VTIMEZONE
END:VCALENDAR
