BEGIN:VCALENDAR
VERSION:2.0
PRODID:-//Plone.org//NONSGML plone.app.event//EN
X-WR-TIMEZONE:America/Sao_Paulo
BEGIN:VEVENT
SUMMARY:Fórum de Temáticas Esportivas - FORTE em [ Auditorio A102 do Cad
  2]
DTSTART;TZID=America/Sao_Paulo;VALUE=DATE-TIME:20230418T080000
DTEND;TZID=America/Sao_Paulo;VALUE=DATE-TIME:20230419T170000
DTSTAMP;VALUE=DATE-TIME:20260421T164257Z
UID:81116510024b4a338e1a21fd130db72c@150.164.76.86:8080
CREATED;VALUE=DATE-TIME:20230217T132813Z
DESCRIPTION:<p>A Secretaria de Estado de Desenvolvimento Social (Sedese)\,
  por meio de sua Subsecretaria de Esportes - SUBESP\, irá realizar nos di
 as 18 e 19 de abril de 2023 o <b>Fórum de Temáticas Esportivas - FORTE<
 /b>\, que tem como objetivo aproximar e fortalecer a comunidade esportiva 
 da região Metropolitana\, regionalizar o processo de formulação de poss
 íveis novas políticas públicas e promover a cultura de escuta\, avalia
 ção e aprimoramento das políticas já em andamento.</p>\n<p> O <span 
 style="text-decoration-line: underline\; ">público alvo do FORTE</span> 
 é a comunidade esportiva mineira\, com foco nos(as) conselheiros(as) muni
 cipais de políticas esportivas\, gestores(as) esportivos(as) municipais\,
  professores(as) e alunos(as) de universidades e faculdades\, atletas\, tr
 einadores(as)\, bem como agentes esportivos privados de clubes\, associaç
 ões\, federações ou individuais.</p>
LAST-MODIFIED;VALUE=DATE-TIME:20230217T132928Z
URL:http://150.164.76.86:8080/cac/agenda/8681327872378772512
END:VEVENT
BEGIN:VTIMEZONE
TZID:America/Sao_Paulo
X-LIC-LOCATION:America/Sao_Paulo
BEGIN:STANDARD
DTSTART;VALUE=DATE-TIME:20230225T230000
TZNAME:BRT
TZOFFSETFROM:-0200
TZOFFSETTO:-0300
END:STANDARD
END:VTIMEZONE
END:VCALENDAR
