BEGIN:VCALENDAR
VERSION:2.0
PRODID:-//Plone.org//NONSGML plone.app.event//EN
X-WR-TIMEZONE:America/Sao_Paulo
BEGIN:VEVENT
SUMMARY:Assinatura Unidade Embrapii CTNano/UFMG em [ Outros espacos]
DTSTART;TZID=America/Sao_Paulo;VALUE=DATE-TIME:20240510T140000
DTEND;TZID=America/Sao_Paulo;VALUE=DATE-TIME:20240510T160000
DTSTAMP;VALUE=DATE-TIME:20260420T031303Z
UID:121df9c194df407aba0cc7c93bc6f9f8@150.164.76.86:8080
CREATED;VALUE=DATE-TIME:20240419T191410Z
DESCRIPTION:<div class="ewa-rteLine" style="text-decoration-thickness: ini
 tial\; text-decoration-style: initial\; text-decoration-color: initial\; t
 ext-align: left\; ">Assinatura Unidade Embrapii CTNano/UFMG</div>\n<p styl
 e="text-align: left\; "><br class="Apple-interchange-newline" /><br /></p>
LAST-MODIFIED;VALUE=DATE-TIME:20240419T191429Z
URL:http://150.164.76.86:8080/cac/agenda/8679214001804022994
END:VEVENT
BEGIN:VTIMEZONE
TZID:America/Sao_Paulo
X-LIC-LOCATION:America/Sao_Paulo
BEGIN:STANDARD
DTSTART;VALUE=DATE-TIME:20240217T230000
TZNAME:BRT
TZOFFSETFROM:-0200
TZOFFSETTO:-0300
END:STANDARD
END:VTIMEZONE
END:VCALENDAR
