BEGIN:VCALENDAR
VERSION:2.0
PRODID:-//Plone.org//NONSGML plone.app.event//EN
X-WR-TIMEZONE:America/Sao_Paulo
BEGIN:VEVENT
SUMMARY:Leilão da PRA em [ Auditorio Nobre do CAD 1]
DTSTART;TZID=America/Sao_Paulo;VALUE=DATE-TIME:20211207T080000
DTEND;TZID=America/Sao_Paulo;VALUE=DATE-TIME:20211207T140000
DTSTAMP;VALUE=DATE-TIME:20260423T130305Z
UID:9a1714512c5341459a705b46f722c9f8@150.164.76.86:8080
CREATED;VALUE=DATE-TIME:20211117T152856Z
DESCRIPTION:<p>Leilão da PRA</p>
LAST-MODIFIED;VALUE=DATE-TIME:20211118T132909Z
URL:http://150.164.76.86:8080/cac/agenda/8639210594907904607
END:VEVENT
BEGIN:VTIMEZONE
TZID:America/Sao_Paulo
X-LIC-LOCATION:America/Sao_Paulo
BEGIN:DAYLIGHT
DTSTART;VALUE=DATE-TIME:20211017T010000
TZNAME:BRST
TZOFFSETFROM:-0300
TZOFFSETTO:-0200
END:DAYLIGHT
END:VTIMEZONE
END:VCALENDAR
