BEGIN:VCALENDAR
VERSION:2.0
PRODID:-//Plone.org//NONSGML plone.app.event//EN
X-WR-TIMEZONE:America/Sao_Paulo
BEGIN:VEVENT
SUMMARY:Study in Canada em [ Auditório B106 do CAD3]
DTSTART;TZID=America/Sao_Paulo;VALUE=DATE-TIME:20230419T150000
DTEND;TZID=America/Sao_Paulo;VALUE=DATE-TIME:20230419T190000
DTSTAMP;VALUE=DATE-TIME:20260421T152430Z
UID:d71e96431dc448648178b38cf8c32704@150.164.76.86:8080
CREATED;VALUE=DATE-TIME:20230324T122928Z
DESCRIPTION:Serão necessários 3 microfones\, mesa no palco para 4 lugare
 s\, 1 mesa do lado de fora do auditório\, projetor.
LAST-MODIFIED;VALUE=DATE-TIME:20230324T145235Z
URL:http://150.164.76.86:8080/cac/agenda/8629144110918214524
END:VEVENT
BEGIN:VTIMEZONE
TZID:America/Sao_Paulo
X-LIC-LOCATION:America/Sao_Paulo
BEGIN:STANDARD
DTSTART;VALUE=DATE-TIME:20230225T230000
TZNAME:BRT
TZOFFSETFROM:-0200
TZOFFSETTO:-0300
END:STANDARD
END:VTIMEZONE
END:VCALENDAR
