BEGIN:VCALENDAR
VERSION:2.0
PRODID:-//Plone.org//NONSGML plone.app.event//EN
X-WR-TIMEZONE:America/Sao_Paulo
BEGIN:VEVENT
SUMMARY:Mercado das Pulgas em [ Em torno da Praca de Servicos]
DTSTART;TZID=America/Sao_Paulo;VALUE=DATE-TIME:20221205T090000
DTEND;TZID=America/Sao_Paulo;VALUE=DATE-TIME:20221207T170000
DTSTAMP;VALUE=DATE-TIME:20260421T192217Z
UID:f2bf80cb3ebf475c881429de1323d702@150.164.76.86:8080
CREATED;VALUE=DATE-TIME:20220502T190713Z
DESCRIPTION:Paineis
LAST-MODIFIED;VALUE=DATE-TIME:20220503T132531Z
URL:http://150.164.76.86:8080/cac/agenda/8614628418390148995
END:VEVENT
BEGIN:VTIMEZONE
TZID:America/Sao_Paulo
X-LIC-LOCATION:America/Sao_Paulo
BEGIN:DAYLIGHT
DTSTART;VALUE=DATE-TIME:20221016T010000
TZNAME:BRST
TZOFFSETFROM:-0300
TZOFFSETTO:-0200
END:DAYLIGHT
END:VTIMEZONE
END:VCALENDAR
