BEGIN:VCALENDAR
VERSION:2.0
PRODID:-//Plone.org//NONSGML plone.app.event//EN
X-WR-TIMEZONE:America/Sao_Paulo
BEGIN:VEVENT
SUMMARY:Aula Inaugural FTDC - O desastre climático para além do hype: fa
 lando sério sobre justiça ambiental em [ Auditorio A102 do Cad 2]
DTSTART;TZID=America/Sao_Paulo;VALUE=DATE-TIME:20230901T130000
DTEND;TZID=America/Sao_Paulo;VALUE=DATE-TIME:20230901T160000
DTSTAMP;VALUE=DATE-TIME:20260421T062217Z
UID:80cd09af253343df902c98e0bae62ee1@150.164.76.86:8080
CREATED;VALUE=DATE-TIME:20230823T123907Z
DESCRIPTION:<p>Aula Inaugural em Divulgação Científica: Serão Necessá
 rios para a aula: 03 POLTRONAS PARA OS PALESTRANTES\; 03 MICROFONES SEM FI
 O PARA OS PALESTRANTES\; AR CONDICIONADO EM FUNCIONAMENTO\; UM TÉCNICO RE
 SPONSÁVEL PARA DEIXAR OS MICROFONES E O ÁUDIO EM FUNCIONAMENTO.</p>
LAST-MODIFIED;VALUE=DATE-TIME:20230828T194607Z
URL:http://150.164.76.86:8080/cac/agenda/8611226101042377498
END:VEVENT
BEGIN:VTIMEZONE
TZID:America/Sao_Paulo
X-LIC-LOCATION:America/Sao_Paulo
BEGIN:STANDARD
DTSTART;VALUE=DATE-TIME:20230225T230000
TZNAME:BRT
TZOFFSETFROM:-0200
TZOFFSETTO:-0300
END:STANDARD
END:VTIMEZONE
END:VCALENDAR
