BEGIN:VCALENDAR
VERSION:2.0
PRODID:-//Plone.org//NONSGML plone.app.event//EN
X-WR-TIMEZONE:America/Sao_Paulo
BEGIN:VEVENT
SUMMARY:Reserva PROCULT em [ Auditorio da Reitoria]
DTSTART;TZID=America/Sao_Paulo;VALUE=DATE-TIME:20240702T070000
DTEND;TZID=America/Sao_Paulo;VALUE=DATE-TIME:20240704T210000
DTSTAMP;VALUE=DATE-TIME:20260419T223022Z
UID:033fb4124712457098348491892487ac@150.164.76.86:8080
CREATED;VALUE=DATE-TIME:20240503T180531Z
DESCRIPTION:<p>Bloqueio procult</p>\n<p>Apresentação teatral</p>
LAST-MODIFIED;VALUE=DATE-TIME:20240620T124629Z
URL:http://150.164.76.86:8080/cac/agenda/8597691650226029886
END:VEVENT
BEGIN:VTIMEZONE
TZID:America/Sao_Paulo
X-LIC-LOCATION:America/Sao_Paulo
BEGIN:STANDARD
DTSTART;VALUE=DATE-TIME:20240217T230000
TZNAME:BRT
TZOFFSETFROM:-0200
TZOFFSETTO:-0300
END:STANDARD
END:VTIMEZONE
END:VCALENDAR
