BEGIN:VCALENDAR
VERSION:2.0
PRODID:-//Plone.org//NONSGML plone.app.event//EN
X-WR-TIMEZONE:America/Sao_Paulo
BEGIN:VEVENT
SUMMARY:Semana de Orientação do Estudante Internacional 2024/2 em [ Audi
 torio A104 do Cad 2]
DTSTART;TZID=America/Sao_Paulo;VALUE=DATE-TIME:20250306T080000
DTEND;TZID=America/Sao_Paulo;VALUE=DATE-TIME:20250306T180000
DTSTAMP;VALUE=DATE-TIME:20260419T103337Z
UID:d9e289dcd3e24c2b992de7cafb9951a6@150.164.76.86:8080
CREATED;VALUE=DATE-TIME:20240808T124318Z
DESCRIPTION:Realização das Palestras da Semana de Orientação do Estuda
 nte Internacional 2024/2.\nCad 2- A104
LAST-MODIFIED;VALUE=DATE-TIME:20250218T184601Z
URL:http://150.164.76.86:8080/cac/agenda/8593711733186799693
END:VEVENT
BEGIN:VTIMEZONE
TZID:America/Sao_Paulo
X-LIC-LOCATION:America/Sao_Paulo
BEGIN:STANDARD
DTSTART;VALUE=DATE-TIME:20250215T230000
TZNAME:BRT
TZOFFSETFROM:-0200
TZOFFSETTO:-0300
END:STANDARD
END:VTIMEZONE
END:VCALENDAR
