BEGIN:VCALENDAR
VERSION:2.0
PRODID:-//Plone.org//NONSGML plone.app.event//EN
X-WR-TIMEZONE:America/Sao_Paulo
BEGIN:VEVENT
SUMMARY:Feriado de Carnaval em [ Auditorio da Reitoria Saguao da Reitoria 
 Gramado da Reitoria Arena da praça de serviços Entorno da Praca de Servi
 cos Auditorio Nobre do CAD 1 Auditorio 1A do CAD 1 Auditorio 2A do CAD 1 A
 uditorio A102 do Cad 2 Auditorio A104 do Cad 2 Auditório B301 do CAD 3 Au
 ditório B302 do CAD 3 Auditório B107 do CAD3 Outros espacos]
DTSTART;TZID=America/Sao_Paulo;VALUE=DATE-TIME:20230220T000000
DTEND;TZID=America/Sao_Paulo;VALUE=DATE-TIME:20230222T230000
DTSTAMP;VALUE=DATE-TIME:20260421T180959Z
UID:017419f91fb846529c4d75728b3a674e@150.164.76.86:8080
CREATED;VALUE=DATE-TIME:20221109T134730Z
DESCRIPTION:<p>Feriado de Carnaval</p>
LAST-MODIFIED;VALUE=DATE-TIME:20221109T134755Z
URL:http://150.164.76.86:8080/cac/agenda/8574812647279218371
END:VEVENT
BEGIN:VTIMEZONE
TZID:America/Sao_Paulo
X-LIC-LOCATION:America/Sao_Paulo
BEGIN:DAYLIGHT
DTSTART;VALUE=DATE-TIME:20221016T010000
TZNAME:BRST
TZOFFSETFROM:-0300
TZOFFSETTO:-0200
END:DAYLIGHT
END:VTIMEZONE
END:VCALENDAR
