BEGIN:VCALENDAR
VERSION:2.0
PRODID:-//Plone.org//NONSGML plone.app.event//EN
X-WR-TIMEZONE:America/Sao_Paulo
BEGIN:VEVENT
SUMMARY:CONCURSO PROFESSOR EFETIVO DE BIOLOGIA DO COLTEC em [ Auditório B
 101/102 do CAD 3 Auditório B106 do CAD3]
DTSTART;TZID=America/Sao_Paulo;VALUE=DATE-TIME:20221107T080000
DTEND;TZID=America/Sao_Paulo;VALUE=DATE-TIME:20221108T180000
DTSTAMP;VALUE=DATE-TIME:20260421T204322Z
UID:1c7fd743ffee46dcac78ff1e416ca2f0@150.164.76.86:8080
CREATED;VALUE=DATE-TIME:20220811T182226Z
DESCRIPTION:<div>\n<div class="gmail_default">Prezada Sheila\, </div>\n<d
 iv class="gmail_default">Gostaria de reservar os auditórios: 101 \, 102 \
 , 106 e 107 para a abertura e prova escrita do Concurso professor Efetivo 
 de Biologia do Coltec a realizar-se:</div>\n<div class="gmail_default"></d
 iv>\n<div class="gmail_default">Dias: 07 e 08 de novembro de 2022</div>\n<
 div class="gmail_default">Horários : 08:00 às 10:00 horas  e 13:00 às
  18 horas</div>\n<div class="gmail_default">Atenciosamente\,</div>\n</div>
 \n<p>--</p>\n<div class="gmail_signature" dir="ltr">\n<div dir="ltr"><b>M
 árcia Bolina</b></div>\n</div>
LAST-MODIFIED;VALUE=DATE-TIME:20230111T201141Z
URL:http://150.164.76.86:8080/cac/agenda/8570522059907262699
END:VEVENT
BEGIN:VTIMEZONE
TZID:America/Sao_Paulo
X-LIC-LOCATION:America/Sao_Paulo
BEGIN:DAYLIGHT
DTSTART;VALUE=DATE-TIME:20221016T010000
TZNAME:BRST
TZOFFSETFROM:-0300
TZOFFSETTO:-0200
END:DAYLIGHT
END:VTIMEZONE
END:VCALENDAR
