BEGIN:VCALENDAR
VERSION:2.0
PRODID:-//Plone.org//NONSGML plone.app.event//EN
X-WR-TIMEZONE:America/Sao_Paulo
BEGIN:VEVENT
SUMMARY:Sem presente\, sem Futuro: Educação e Ciência em Risco em [ Out
 ros espacos]
DTSTART;TZID=America/Sao_Paulo;VALUE=DATE-TIME:20220621T160000
DTEND;TZID=America/Sao_Paulo;VALUE=DATE-TIME:20220621T180000
DTSTAMP;VALUE=DATE-TIME:20260422T081437Z
UID:2a3404e8aee649a9ba69b0910246bb7a@150.164.76.86:8080
CREATED;VALUE=DATE-TIME:20220615T172951Z
DESCRIPTION:<p>PAINEL: Sem presente\, sem Futuro: Educação e Ciência em
  Risco Mediador: prof. Fernando Reis - Pró-reitor de Pesquisa da UFMG Par
 ticipantes: Profa. Natacha Rena - Escola de Arquitetura da UFMG Profa. Lí
 via Pancrácio de Errico - Escola de Enfermagem da UFMG Prof. Francisco de
  Paula Antunes Lima - Escola de Engenharia da UFMG Dia 21 de junho de 2021
  Horário: 16 às 18 horas Canal do Youtube da CAC UFMG</p>
LAST-MODIFIED;VALUE=DATE-TIME:20220620T124332Z
URL:http://150.164.76.86:8080/cac/agenda/8569849553427054075
END:VEVENT
BEGIN:VTIMEZONE
TZID:America/Sao_Paulo
X-LIC-LOCATION:America/Sao_Paulo
BEGIN:STANDARD
DTSTART;VALUE=DATE-TIME:20220219T230000
TZNAME:BRT
TZOFFSETFROM:-0200
TZOFFSETTO:-0300
END:STANDARD
END:VTIMEZONE
END:VCALENDAR
