BEGIN:VCALENDAR
VERSION:2.0
PRODID:-//Plone.org//NONSGML plone.app.event//EN
X-WR-TIMEZONE:America/Sao_Paulo
BEGIN:VEVENT
SUMMARY:Encontro - Encerramento do Exercício 2021 em [ Outros espacos]
DTSTART;TZID=America/Sao_Paulo;VALUE=DATE-TIME:20221130T083000
DTEND;TZID=America/Sao_Paulo;VALUE=DATE-TIME:20221130T130000
DTSTAMP;VALUE=DATE-TIME:20260421T221015Z
UID:a37af7028a0a49a1a185429aa63c3656@150.164.76.86:8080
CREATED;VALUE=DATE-TIME:20221104T194030Z
DESCRIPTION:<p>O Encontro de encerramento do exercício de 2021 reunirá t
 odos os contadores que atuam nos setores financeiro/contábil da UFMG\, a 
 fim de alinhar os procedimentos e esclarecer dúvidas referentes ao encerr
 amento do exercício. O evento será norteado pelo diretor e demais servid
 ores do Departamento de Contabilidade e Finanças da UFMG (PROPLAN/DCF). S
 erviços/equipamentos necessários: Microfone de mesa Microfone sem fio Pr
 ojetor multimidia VGA Tela de projecao 188 polegadas Sistema de som com ca
 ixas frontais</p>
LAST-MODIFIED;VALUE=DATE-TIME:20221125T205000Z
URL:http://150.164.76.86:8080/cac/agenda/8566849241627519741
END:VEVENT
BEGIN:VTIMEZONE
TZID:America/Sao_Paulo
X-LIC-LOCATION:America/Sao_Paulo
BEGIN:DAYLIGHT
DTSTART;VALUE=DATE-TIME:20221016T010000
TZNAME:BRST
TZOFFSETFROM:-0300
TZOFFSETTO:-0200
END:DAYLIGHT
END:VTIMEZONE
END:VCALENDAR
