BEGIN:VCALENDAR
VERSION:2.0
PRODID:-//Plone.org//NONSGML plone.app.event//EN
X-WR-TIMEZONE:America/Sao_Paulo
BEGIN:VEVENT
SUMMARY:Colação de grau  oficial em [ Auditorio Nobre do CAD 1]
DTSTART;TZID=America/Sao_Paulo;VALUE=DATE-TIME:20240202T120000
DTEND;TZID=America/Sao_Paulo;VALUE=DATE-TIME:20240202T180000
DTSTAMP;VALUE=DATE-TIME:20260420T063028Z
UID:3561284dfab240329e10be32a84107de@150.164.76.86:8080
CREATED;VALUE=DATE-TIME:20230921T173313Z
DESCRIPTION:<p>Colação de grau oficial.</p>
LAST-MODIFIED;VALUE=DATE-TIME:20230922T154835Z
URL:http://150.164.76.86:8080/cac/agenda/8565344456900143061
END:VEVENT
BEGIN:VTIMEZONE
TZID:America/Sao_Paulo
X-LIC-LOCATION:America/Sao_Paulo
BEGIN:DAYLIGHT
DTSTART;VALUE=DATE-TIME:20231015T010000
TZNAME:BRST
TZOFFSETFROM:-0300
TZOFFSETTO:-0200
END:DAYLIGHT
END:VTIMEZONE
END:VCALENDAR
