BEGIN:VCALENDAR
VERSION:2.0
PRODID:-//Plone.org//NONSGML plone.app.event//EN
X-WR-TIMEZONE:America/Sao_Paulo
BEGIN:VEVENT
SUMMARY:Colação de Grau Oficial FAFICH em [ Auditorio A102 do Cad 2]
DTSTART;TZID=America/Sao_Paulo;VALUE=DATE-TIME:20240123T160000
DTEND;TZID=America/Sao_Paulo;VALUE=DATE-TIME:20240123T220000
DTSTAMP;VALUE=DATE-TIME:20260420T080618Z
UID:d0d9fb2aa8264e299a757936028d5d90@150.164.76.86:8080
CREATED;VALUE=DATE-TIME:20231030T141954Z
DESCRIPTION:<p>Colação de grau oficial dos cursos de graduação da FAFI
 CH</p>
LAST-MODIFIED;VALUE=DATE-TIME:20231116T125017Z
URL:http://150.164.76.86:8080/cac/agenda/8560416353082977644
END:VEVENT
BEGIN:VTIMEZONE
TZID:America/Sao_Paulo
X-LIC-LOCATION:America/Sao_Paulo
BEGIN:DAYLIGHT
DTSTART;VALUE=DATE-TIME:20231015T010000
TZNAME:BRST
TZOFFSETFROM:-0300
TZOFFSETTO:-0200
END:DAYLIGHT
END:VTIMEZONE
END:VCALENDAR
