BEGIN:VCALENDAR
VERSION:2.0
PRODID:-//Plone.org//NONSGML plone.app.event//EN
X-WR-TIMEZONE:America/Sao_Paulo
BEGIN:VEVENT
SUMMARY:Manutenção em [ Auditorio da Reitoria]
DTSTART;TZID=America/Sao_Paulo;VALUE=DATE-TIME:20230626T070000
DTEND;TZID=America/Sao_Paulo;VALUE=DATE-TIME:20230630T220000
DTSTAMP;VALUE=DATE-TIME:20260421T115807Z
UID:49893b58fd0841c9a76e944c2cb54373@150.164.76.86:8080
CREATED;VALUE=DATE-TIME:20230621T152838Z
DESCRIPTION:<p>Manutenção palco</p>
LAST-MODIFIED;VALUE=DATE-TIME:20230621T152858Z
URL:http://150.164.76.86:8080/cac/agenda/8554824478629155470
END:VEVENT
BEGIN:VTIMEZONE
TZID:America/Sao_Paulo
X-LIC-LOCATION:America/Sao_Paulo
BEGIN:STANDARD
DTSTART;VALUE=DATE-TIME:20230225T230000
TZNAME:BRT
TZOFFSETFROM:-0200
TZOFFSETTO:-0300
END:STANDARD
END:VTIMEZONE
END:VCALENDAR
