BEGIN:VCALENDAR
VERSION:2.0
PRODID:-//Plone.org//NONSGML plone.app.event//EN
X-WR-TIMEZONE:America/Sao_Paulo
BEGIN:VEVENT
SUMMARY:3° Café Hidrogeológico LEHID-IGC-UFMG em [ Auditorio A102 do Ca
 d 2]
DTSTART;TZID=America/Sao_Paulo;VALUE=DATE-TIME:20250508T090000
DTEND;TZID=America/Sao_Paulo;VALUE=DATE-TIME:20250509T190000
DTSTAMP;VALUE=DATE-TIME:20260419T091056Z
UID:da0e7505c45243bab3fe2a558036ef14@150.164.76.86:8080
CREATED;VALUE=DATE-TIME:20250205T125730Z
DESCRIPTION:Nome do evento: 3° Café Hidrogeológico LEHID-IGC-UFMG\n\nNo
 me do responsável: Paulo Henrique Ferreira Galvão\n\nTelefone de contato
 : (31) 99318-2049\n\nVinculo: IGC-UFMG\n\nPúblico alvo: Pesquisadores\, P
 rofissionais e Estudantes\, com estimativa de 250 participantes.\n\nObserv
 ação: Encontro realizado pelo Laboratório de Estudos Hidrogeológicos d
 o IGC/UFMG para discutir assuntos relacionados aos recursos hídricos do e
 stado de Minas Gerais. Evento com a participação aberta de pesquisadores
 \, professores\, profissionais\, estudantes (graduação e pós-graduaçã
 o) e empresas com interesses em hidrogeologia\, geologia ambiental\, engen
 harias\, geotecnia e áreas afins.\n\nMarcações\nLocal: Auditório - 08/
 05/2025: 09:00 até 20:00\nLocal: Auditório - 09/05/2025: 09:00 até 19:0
 0
LAST-MODIFIED;VALUE=DATE-TIME:20250425T141412Z
URL:http://150.164.76.86:8080/cac/agenda/8552381933731724110
END:VEVENT
BEGIN:VTIMEZONE
TZID:America/Sao_Paulo
X-LIC-LOCATION:America/Sao_Paulo
BEGIN:STANDARD
DTSTART;VALUE=DATE-TIME:20250215T230000
TZNAME:BRT
TZOFFSETFROM:-0200
TZOFFSETTO:-0300
END:STANDARD
END:VTIMEZONE
END:VCALENDAR
