BEGIN:VCALENDAR
VERSION:2.0
PRODID:-//Plone.org//NONSGML plone.app.event//EN
X-WR-TIMEZONE:America/Sao_Paulo
BEGIN:VEVENT
SUMMARY:Mostra da Internacionalização da UFMG em [ Arena da praça de se
 rviços Entorno da Praca de Servicos]
DTSTART;TZID=America/Sao_Paulo;VALUE=DATE-TIME:20241121T090000
DTEND;TZID=America/Sao_Paulo;VALUE=DATE-TIME:20241121T200000
DTSTAMP;VALUE=DATE-TIME:20260419T175654Z
UID:9afbe79fbb0e4d4c840ef9cf8b22a955@150.164.76.86:8080
CREATED;VALUE=DATE-TIME:20241017T135557Z
DESCRIPTION:Mostra de Internacionalização com a participação das açõ
 es de internacionalização de toda a UFMG (PRPG\, DRI\, Crinter\, Confúc
 io\, FALE\, DAAD\, NARI\, etc.).\nConcurso de culinária Internacional com
  a participação da comunidade discrente da UFMG. Apresentação dos parc
 eiros convidados.\nEstrutura: caixa de som e dois microfones.
LAST-MODIFIED;VALUE=DATE-TIME:20241021T144325Z
URL:http://150.164.76.86:8080/cac/agenda/8541000886157810975
END:VEVENT
BEGIN:VTIMEZONE
TZID:America/Sao_Paulo
X-LIC-LOCATION:America/Sao_Paulo
BEGIN:DAYLIGHT
DTSTART;VALUE=DATE-TIME:20241020T010000
TZNAME:BRST
TZOFFSETFROM:-0300
TZOFFSETTO:-0200
END:DAYLIGHT
END:VTIMEZONE
END:VCALENDAR
