BEGIN:VCALENDAR
VERSION:2.0
PRODID:-//Plone.org//NONSGML plone.app.event//EN
X-WR-TIMEZONE:America/Sao_Paulo
BEGIN:VEVENT
SUMMARY:I Ciclo de Aprendizados do projeto de implementação do MonitoraS
 B em [ Auditório B106 do CAD3]
DTSTART;TZID=America/Sao_Paulo;VALUE=DATE-TIME:20240626T080000
DTEND;TZID=America/Sao_Paulo;VALUE=DATE-TIME:20240626T180000
DTSTAMP;VALUE=DATE-TIME:20260420T012347Z
UID:f0e92798b12e47daa9395ee23502e3d2@150.164.76.86:8080
CREATED;VALUE=DATE-TIME:20240511T182111Z
DESCRIPTION:<p>O I ciclo de aprendizagem do MonitoraSB será um encontro e
 ntre as equipes locais de implementação do projeto MonitoraSB de diferen
 tes municípios e destas com a equipe de pesquisadores. Esse momento será
  de compartilhamento de experiências da implementação do MonitoraSB em 
 cada local\, além de discussões sobre o monitoramento dos serviços de s
 aúde bucal em cada realidade. Participarão representantes da gestão mun
 icipal de saúde (APS\, Saúde Bucal\, dentre outros)\, gestão estadual e
  nacional de saúde bucal e equipe de pesquisadores. O 1o Ciclo de Aprendi
 zados terá duração total de 08 horas – das 8:00 às 18:00. Será nece
 sário equipamento multimídia\, retroprojetor\, microfone.</p>
LAST-MODIFIED;VALUE=DATE-TIME:20240524T175815Z
URL:http://150.164.76.86:8080/cac/agenda/8533730157784956897
END:VEVENT
BEGIN:VTIMEZONE
TZID:America/Sao_Paulo
X-LIC-LOCATION:America/Sao_Paulo
BEGIN:STANDARD
DTSTART;VALUE=DATE-TIME:20240217T230000
TZNAME:BRT
TZOFFSETFROM:-0200
TZOFFSETTO:-0300
END:STANDARD
END:VTIMEZONE
END:VCALENDAR
