BEGIN:VCALENDAR
VERSION:2.0
PRODID:-//Plone.org//NONSGML plone.app.event//EN
X-WR-TIMEZONE:America/Sao_Paulo
BEGIN:VEVENT
SUMMARY:Show de Encerramento do Novembro Negro 2024 em [ Arena da praça d
 e serviços]
DTSTART;TZID=America/Sao_Paulo;VALUE=DATE-TIME:20241128T160000
DTEND;TZID=America/Sao_Paulo;VALUE=DATE-TIME:20241128T220000
DTSTAMP;VALUE=DATE-TIME:20260419T175601Z
UID:d5d23d818a734441be86510b1426993f@150.164.76.86:8080
CREATED;VALUE=DATE-TIME:20241001T164215Z
DESCRIPTION:O Show de Encerramento do Novembro Negro 2024 acontecerá na A
 rena da Praça de Serviços \n\ne contará com apresentação musical de B
 anda.\n\nO horário marcado de 16h às 22h do dia 28 de novembro\, compree
 nde a montagem dos Equipamentos\, Apresentação e Desmontagem.
LAST-MODIFIED;VALUE=DATE-TIME:20241001T164949Z
URL:http://150.164.76.86:8080/cac/agenda/8530936147191560362
END:VEVENT
BEGIN:VTIMEZONE
TZID:America/Sao_Paulo
X-LIC-LOCATION:America/Sao_Paulo
BEGIN:DAYLIGHT
DTSTART;VALUE=DATE-TIME:20241020T010000
TZNAME:BRST
TZOFFSETFROM:-0300
TZOFFSETTO:-0200
END:DAYLIGHT
END:VTIMEZONE
END:VCALENDAR
