BEGIN:VCALENDAR
VERSION:2.0
PRODID:-//Plone.org//NONSGML plone.app.event//EN
X-WR-TIMEZONE:America/Sao_Paulo
BEGIN:VEVENT
SUMMARY:Concurso para provimento de cargos do Conselho Regional de Odontol
 ogia em [ Auditorio Nobre do CAD 1 Auditorio 1A do CAD 1 Auditorio 2A do C
 AD 1]
DTSTART;TZID=America/Sao_Paulo;VALUE=DATE-TIME:20230513T070000
DTEND;TZID=America/Sao_Paulo;VALUE=DATE-TIME:20230514T210000
DTSTAMP;VALUE=DATE-TIME:20260421T133919Z
UID:f8c24dcd53974d0385b2865da5265f67@150.164.76.86:8080
CREATED;VALUE=DATE-TIME:20230324T153151Z
DESCRIPTION:<p><span>Concurso para provimento de cargos do Conselho Region
 al de Odontologia</span></p>
LAST-MODIFIED;VALUE=DATE-TIME:20230324T153217Z
URL:http://150.164.76.86:8080/cac/agenda/8503428388511171676
END:VEVENT
BEGIN:VTIMEZONE
TZID:America/Sao_Paulo
X-LIC-LOCATION:America/Sao_Paulo
BEGIN:STANDARD
DTSTART;VALUE=DATE-TIME:20230225T230000
TZNAME:BRT
TZOFFSETFROM:-0200
TZOFFSETTO:-0300
END:STANDARD
END:VTIMEZONE
END:VCALENDAR
