BEGIN:VCALENDAR
VERSION:2.0
PRODID:-//Plone.org//NONSGML plone.app.event//EN
X-WR-TIMEZONE:America/Sao_Paulo
BEGIN:VEVENT
SUMMARY:Seminário Anual do IEAT em [ Auditorio Nobre do CAD 1]
DTSTART;TZID=America/Sao_Paulo;VALUE=DATE-TIME:20220628T130000
DTEND;TZID=America/Sao_Paulo;VALUE=DATE-TIME:20220628T190000
DTSTAMP;VALUE=DATE-TIME:20260422T063421Z
UID:3be88a3b25b94a40a2864b58fc4538ea@150.164.76.86:8080
CREATED;VALUE=DATE-TIME:20220520T184053Z
DESCRIPTION:Apresentação de resultado e ou andamento de pesquisas dos pr
 ofessores da UFMG participantes do Programa Professor Residente do IEAT.
LAST-MODIFIED;VALUE=DATE-TIME:20220524T125205Z
URL:http://150.164.76.86:8080/cac/agenda/8480841152932058032
END:VEVENT
BEGIN:VTIMEZONE
TZID:America/Sao_Paulo
X-LIC-LOCATION:America/Sao_Paulo
BEGIN:STANDARD
DTSTART;VALUE=DATE-TIME:20220219T230000
TZNAME:BRT
TZOFFSETFROM:-0200
TZOFFSETTO:-0300
END:STANDARD
END:VTIMEZONE
END:VCALENDAR
