BEGIN:VCALENDAR
VERSION:2.0
PRODID:-//Plone.org//NONSGML plone.app.event//EN
X-WR-TIMEZONE:America/Sao_Paulo
BEGIN:VEVENT
SUMMARY:Quarta Doze e Trinta em [ Auditorio da Reitoria]
DTSTART;TZID=America/Sao_Paulo;VALUE=DATE-TIME:20220524T080000
DTEND;TZID=America/Sao_Paulo;VALUE=DATE-TIME:20220524T170000
DTSTAMP;VALUE=DATE-TIME:20260422T081522Z
UID:2875bf6e8e064afd88c764e34c02c911@150.164.76.86:8080
CREATED;VALUE=DATE-TIME:20220407T161542Z
DESCRIPTION:<p>Montagem do espetáculo <span>Gold\, espetáculo formatura
  do TU</span></p>
LAST-MODIFIED;VALUE=DATE-TIME:20220408T140459Z
URL:http://150.164.76.86:8080/cac/agenda/8479938220370116030
END:VEVENT
BEGIN:VTIMEZONE
TZID:America/Sao_Paulo
X-LIC-LOCATION:America/Sao_Paulo
BEGIN:STANDARD
DTSTART;VALUE=DATE-TIME:20220219T230000
TZNAME:BRT
TZOFFSETFROM:-0200
TZOFFSETTO:-0300
END:STANDARD
END:VTIMEZONE
END:VCALENDAR
