BEGIN:VCALENDAR
VERSION:2.0
PRODID:-//Plone.org//NONSGML plone.app.event//EN
X-WR-TIMEZONE:America/Sao_Paulo
BEGIN:VEVENT
SUMMARY:2º Encontro entre CPA e NDEs em [ Outros espacos Auditorio 1A do 
 CAD 1]
DTSTART;TZID=America/Sao_Paulo;VALUE=DATE-TIME:20221118T130000
DTEND;TZID=America/Sao_Paulo;VALUE=DATE-TIME:20221118T170000
DTSTAMP;VALUE=DATE-TIME:20260421T220934Z
UID:3a7694a470f24526b23f8cff4c5c3e6b@150.164.76.86:8080
CREATED;VALUE=DATE-TIME:20221005T185724Z
DESCRIPTION:<p>Evento realizado pela Comissão Própria de Avaliação (CP
 A) para compartilhamento de boas práticas entre os membros dos Núcleos D
 ocentes Estruturantes (NDEs) dos cursos de graduação da UFMG. No auditó
 rio será realizada a primeira parte do evento com uma breve palestra sobr
 e o NDE\, com apresentação Power Point. Já na segunda parte\, os membro
 s dos NDEs serão divididos em grupos pelas três salas para compartilhame
 nto de experiências. Segundo o Rubens\, as salas já estão reservadas pa
 ra este evento.</p>
LAST-MODIFIED;VALUE=DATE-TIME:20221010T183338Z
URL:http://150.164.76.86:8080/cac/agenda/8472855417016047160
END:VEVENT
BEGIN:VTIMEZONE
TZID:America/Sao_Paulo
X-LIC-LOCATION:America/Sao_Paulo
BEGIN:DAYLIGHT
DTSTART;VALUE=DATE-TIME:20221016T010000
TZNAME:BRST
TZOFFSETFROM:-0300
TZOFFSETTO:-0200
END:DAYLIGHT
END:VTIMEZONE
END:VCALENDAR
