BEGIN:VCALENDAR
VERSION:2.0
PRODID:-//Plone.org//NONSGML plone.app.event//EN
X-WR-TIMEZONE:America/Sao_Paulo
BEGIN:VEVENT
SUMMARY:Encontro com o Consul do Japão em [ Auditorio da Reitoria]
DTSTART;TZID=America/Sao_Paulo;VALUE=DATE-TIME:20250523T140000
DTEND;TZID=America/Sao_Paulo;VALUE=DATE-TIME:20250523T190000
DTSTAMP;VALUE=DATE-TIME:20260419T090917Z
UID:82d03c6ec3c7467eb324f52109506113@150.164.76.86:8080
CREATED;VALUE=DATE-TIME:20250401T191818Z
DESCRIPTION:<p>Encontro com o Consul do Japão - auditório da reitoria - 
 parte da programação da III Mostra de Internacionalização da UFMG.</p>
LAST-MODIFIED;VALUE=DATE-TIME:20250401T195941Z
URL:http://150.164.76.86:8080/cac/agenda/8467983573232632848
END:VEVENT
BEGIN:VTIMEZONE
TZID:America/Sao_Paulo
X-LIC-LOCATION:America/Sao_Paulo
BEGIN:STANDARD
DTSTART;VALUE=DATE-TIME:20250215T230000
TZNAME:BRT
TZOFFSETFROM:-0200
TZOFFSETTO:-0300
END:STANDARD
END:VTIMEZONE
END:VCALENDAR
