BEGIN:VCALENDAR
VERSION:2.0
PRODID:-//Plone.org//NONSGML plone.app.event//EN
X-WR-TIMEZONE:America/Sao_Paulo
BEGIN:VEVENT
SUMMARY:Quarta Doze e Trinta em [ Outros espacos]
DTSTART;TZID=America/Sao_Paulo;VALUE=DATE-TIME:20230913T100000
DTEND;TZID=America/Sao_Paulo;VALUE=DATE-TIME:20230913T140000
DTSTAMP;VALUE=DATE-TIME:20260421T080445Z
UID:009ee6b2ff8044f69d2ebf931485c1ae@150.164.76.86:8080
CREATED;VALUE=DATE-TIME:20230912T192621Z
DESCRIPTION:Samuel já possui as informações do evento.
LAST-MODIFIED;VALUE=DATE-TIME:20230913T125718Z
URL:http://150.164.76.86:8080/cac/agenda/8459452136993115384
END:VEVENT
BEGIN:VTIMEZONE
TZID:America/Sao_Paulo
X-LIC-LOCATION:America/Sao_Paulo
BEGIN:STANDARD
DTSTART;VALUE=DATE-TIME:20230225T230000
TZNAME:BRT
TZOFFSETFROM:-0200
TZOFFSETTO:-0300
END:STANDARD
END:VTIMEZONE
END:VCALENDAR
