BEGIN:VCALENDAR
VERSION:2.0
PRODID:-//Plone.org//NONSGML plone.app.event//EN
X-WR-TIMEZONE:America/Sao_Paulo
BEGIN:VEVENT
SUMMARY:Encerramento Novembro Negro UFMG 2023 em [ Auditorio da Reitoria]
DTSTART;TZID=America/Sao_Paulo;VALUE=DATE-TIME:20231124T140000
DTEND;TZID=America/Sao_Paulo;VALUE=DATE-TIME:20231124T160000
DTSTAMP;VALUE=DATE-TIME:20260420T143123Z
UID:1fc8bf4191c8420c9481fc7d42616ee0@150.164.76.86:8080
CREATED;VALUE=DATE-TIME:20230824T171753Z
DESCRIPTION:<p>Evento de Encerramento do Novembro Negro UFMG 2023</p>
LAST-MODIFIED;VALUE=DATE-TIME:20231113T141610Z
URL:http://150.164.76.86:8080/cac/agenda/8434434856832328495
END:VEVENT
BEGIN:VTIMEZONE
TZID:America/Sao_Paulo
X-LIC-LOCATION:America/Sao_Paulo
BEGIN:DAYLIGHT
DTSTART;VALUE=DATE-TIME:20231015T010000
TZNAME:BRST
TZOFFSETFROM:-0300
TZOFFSETTO:-0200
END:DAYLIGHT
END:VTIMEZONE
END:VCALENDAR
