BEGIN:VCALENDAR
VERSION:2.0
PRODID:-//Plone.org//NONSGML plone.app.event//EN
X-WR-TIMEZONE:America/Sao_Paulo
BEGIN:VEVENT
SUMMARY:Conferência Futuro\, essa palavra em [ Auditorio da Reitoria]
DTSTART;TZID=America/Sao_Paulo;VALUE=DATE-TIME:20221110T080000
DTEND;TZID=America/Sao_Paulo;VALUE=DATE-TIME:20221110T120000
DTSTAMP;VALUE=DATE-TIME:20260421T221843Z
UID:42da8059f3434971aa6db05b4aa8fdeb@150.164.76.86:8080
CREATED;VALUE=DATE-TIME:20221104T151340Z
DESCRIPTION:<p>Palestra usual</p>
LAST-MODIFIED;VALUE=DATE-TIME:20221104T204520Z
URL:http://150.164.76.86:8080/cac/agenda/8421257494342683008
END:VEVENT
BEGIN:VTIMEZONE
TZID:America/Sao_Paulo
X-LIC-LOCATION:America/Sao_Paulo
BEGIN:DAYLIGHT
DTSTART;VALUE=DATE-TIME:20221016T010000
TZNAME:BRST
TZOFFSETFROM:-0300
TZOFFSETTO:-0200
END:DAYLIGHT
END:VTIMEZONE
END:VCALENDAR
