BEGIN:VCALENDAR
VERSION:2.0
PRODID:-//Plone.org//NONSGML plone.app.event//EN
X-WR-TIMEZONE:America/Sao_Paulo
BEGIN:VEVENT
SUMMARY:Bloqueio CAC em [ Auditorio da Reitoria Saguao da Reitoria Gramado
  da Reitoria Arena da praça de serviços Auditorio Nobre do CAD 1 Auditor
 io 1A do CAD 1 Auditorio 2A do CAD 1 Auditorio A102 do Cad 2 Auditorio A10
 4 do Cad 2 Auditório B107 do CAD3 Auditório B301 do CAD 3 Auditório B30
 2 do CAD 3]
DTSTART;TZID=America/Sao_Paulo;VALUE=DATE-TIME:20230530T060000
DTEND;TZID=America/Sao_Paulo;VALUE=DATE-TIME:20230530T220000
DTSTAMP;VALUE=DATE-TIME:20260421T145854Z
UID:bb394cbdb06940dd8bdda841e2ebc791@150.164.76.86:8080
CREATED;VALUE=DATE-TIME:20230425T141134Z
DESCRIPTION:<p>Bloqueio</p>
LAST-MODIFIED;VALUE=DATE-TIME:20230425T141239Z
URL:http://150.164.76.86:8080/cac/agenda/8408268804339185165
END:VEVENT
BEGIN:VTIMEZONE
TZID:America/Sao_Paulo
X-LIC-LOCATION:America/Sao_Paulo
BEGIN:STANDARD
DTSTART;VALUE=DATE-TIME:20230225T230000
TZNAME:BRT
TZOFFSETFROM:-0200
TZOFFSETTO:-0300
END:STANDARD
END:VTIMEZONE
END:VCALENDAR
