BEGIN:VCALENDAR
VERSION:2.0
PRODID:-//Plone.org//NONSGML plone.app.event//EN
X-WR-TIMEZONE:America/Sao_Paulo
BEGIN:VEVENT
SUMMARY:Cerimônia de Comemoração dos 10 anos da criação da Pró-Reito
 ria de Assuntos Estudantis em [ Auditorio da Reitoria]
DTSTART;TZID=America/Sao_Paulo;VALUE=DATE-TIME:20241203T080000
DTEND;TZID=America/Sao_Paulo;VALUE=DATE-TIME:20241203T180000
DTSTAMP;VALUE=DATE-TIME:20260419T150134Z
UID:02601f6934d6401f9f36e44dca6790e3@150.164.76.86:8080
CREATED;VALUE=DATE-TIME:20240926T125800Z
DESCRIPTION:<p>Solenidade de comemoração de 10 anos da criação da Pró
 -Reitoria de Assuntos Estudantis. Evento com a participação da Reitora e
  do Vice-Reitor.</p>
LAST-MODIFIED;VALUE=DATE-TIME:20240926T175547Z
URL:http://150.164.76.86:8080/cac/agenda/8400050939660160159
END:VEVENT
BEGIN:VTIMEZONE
TZID:America/Sao_Paulo
X-LIC-LOCATION:America/Sao_Paulo
BEGIN:DAYLIGHT
DTSTART;VALUE=DATE-TIME:20241020T010000
TZNAME:BRST
TZOFFSETFROM:-0300
TZOFFSETTO:-0200
END:DAYLIGHT
END:VTIMEZONE
END:VCALENDAR
