BEGIN:VCALENDAR
VERSION:2.0
PRODID:-//Plone.org//NONSGML plone.app.event//EN
X-WR-TIMEZONE:America/Sao_Paulo
BEGIN:VEVENT
SUMMARY:Solenidade oficial de colação de grau do Curso de Graduação em
  Nutrição 02/2020 em [ Auditorio Nobre do CAD 1]
DTSTART;TZID=America/Sao_Paulo;VALUE=DATE-TIME:20201215T190000
DTEND;TZID=America/Sao_Paulo;VALUE=DATE-TIME:20201215T200000
DTSTAMP;VALUE=DATE-TIME:20260424T150044Z
UID:f4ad5b0fc1a24d498b8158f59a0ec450@150.164.76.86:8080
CREATED;VALUE=DATE-TIME:20200218T194502Z
DESCRIPTION:Solenidade oficial de colação de grau turma 02/2020 - Nutri
 ção.
LAST-MODIFIED;VALUE=DATE-TIME:20200219T134723Z
URL:http://150.164.76.86:8080/cac/agenda/8393541277323489314
END:VEVENT
BEGIN:VTIMEZONE
TZID:America/Sao_Paulo
X-LIC-LOCATION:America/Sao_Paulo
BEGIN:DAYLIGHT
DTSTART;VALUE=DATE-TIME:20201018T010000
TZNAME:BRST
TZOFFSETFROM:-0300
TZOFFSETTO:-0200
END:DAYLIGHT
END:VTIMEZONE
END:VCALENDAR
