BEGIN:VCALENDAR
VERSION:2.0
PRODID:-//Plone.org//NONSGML plone.app.event//EN
X-WR-TIMEZONE:America/Sao_Paulo
BEGIN:VEVENT
SUMMARY:Confraternização grupo de pesquisa GEAPS Membranas em [ Outros e
 spacos]
DTSTART;TZID=America/Sao_Paulo;VALUE=DATE-TIME:20250110T140000
DTEND;TZID=America/Sao_Paulo;VALUE=DATE-TIME:20250110T180000
DTSTAMP;VALUE=DATE-TIME:20260419T133222Z
UID:133751946da143869c33bc48be99a17c@150.164.76.86:8080
CREATED;VALUE=DATE-TIME:20250103T224026Z
DESCRIPTION:Confraternização do grupo de pesquisa GEAPS Membranas. Se es
 tiver disponível\, precisaremos de uma mesa e cadeiras.
LAST-MODIFIED;VALUE=DATE-TIME:20250106T130543Z
URL:http://150.164.76.86:8080/cac/agenda/8389854048108640794
END:VEVENT
BEGIN:VTIMEZONE
TZID:America/Sao_Paulo
X-LIC-LOCATION:America/Sao_Paulo
BEGIN:DAYLIGHT
DTSTART;VALUE=DATE-TIME:20241020T010000
TZNAME:BRST
TZOFFSETFROM:-0300
TZOFFSETTO:-0200
END:DAYLIGHT
END:VTIMEZONE
END:VCALENDAR
