BEGIN:VCALENDAR
VERSION:2.0
PRODID:-//Plone.org//NONSGML plone.app.event//EN
X-WR-TIMEZONE:America/Sao_Paulo
BEGIN:VEVENT
SUMMARY:Semana de Mercado e Negócios em [ Auditório B101/102 do CAD 3]
DTSTART;TZID=America/Sao_Paulo;VALUE=DATE-TIME:20230914T170000
DTEND;TZID=America/Sao_Paulo;VALUE=DATE-TIME:20230915T200000
DTSTAMP;VALUE=DATE-TIME:20260421T080320Z
UID:80b6d2a2c0c94ed6b82a4c0411037af6@150.164.76.86:8080
CREATED;VALUE=DATE-TIME:20230808T170959Z
DESCRIPTION:<p><span>O evento em questão é uma semana de capacitação d
 a Liga de Mercado e Negócios\, iniciativa de mercado financeiro e gestão
  da UFMG. Nele\, serão realizadas diversas palestras sobre temas variados
  de mercado financeiro e gestão. Para a realização do evento\, necessit
 amos de cadeiras\, data show\, acesso ao wifi e ar condicionado\, se poss
 ível. OBS: MODO AULA</span></p>
LAST-MODIFIED;VALUE=DATE-TIME:20230906T154939Z
URL:http://150.164.76.86:8080/cac/agenda/8377203434068491098
END:VEVENT
BEGIN:VTIMEZONE
TZID:America/Sao_Paulo
X-LIC-LOCATION:America/Sao_Paulo
BEGIN:STANDARD
DTSTART;VALUE=DATE-TIME:20230225T230000
TZNAME:BRT
TZOFFSETFROM:-0200
TZOFFSETTO:-0300
END:STANDARD
END:VTIMEZONE
END:VCALENDAR
